BEGIN:VCALENDAR
VERSION:2.0
PRODID:-//Bauernverband Hamburg e.V. - ECPv6.2.8.1//NONSGML v1.0//EN
CALSCALE:GREGORIAN
METHOD:PUBLISH
X-WR-CALNAME:Bauernverband Hamburg e.V.
X-ORIGINAL-URL:https://bv-hamburg.net
X-WR-CALDESC:Veranstaltungen für Bauernverband Hamburg e.V.
REFRESH-INTERVAL;VALUE=DURATION:PT1H
X-Robots-Tag:noindex
X-PUBLISHED-TTL:PT1H
BEGIN:VTIMEZONE
TZID:UTC
BEGIN:STANDARD
TZOFFSETFROM:+0000
TZOFFSETTO:+0000
TZNAME:UTC
DTSTART:20240101T000000
END:STANDARD
END:VTIMEZONE
BEGIN:VEVENT
DTSTART;TZID=UTC:20240314T100000
DTEND;TZID=UTC:20240314T133000
DTSTAMP:20260424T160225
CREATED:20240305T090054Z
LAST-MODIFIED:20240305T090054Z
UID:4492-1710410400-1710423000@bv-hamburg.net
SUMMARY:Delegiertenversammlung
DESCRIPTION:Die diesjährige Vertreterversammlung des Bauernverbandes Hamburg e.V. findet am 14. März 2024 im Fährhaus Tatenberg statt.
URL:https://bv-hamburg.net/event/delegiertenversammlung/
END:VEVENT
END:VCALENDAR