BEGIN:VCALENDAR
VERSION:2.0
PRODID:-//Bauernverband Hamburg e.V. - ECPv6.2.8.1//NONSGML v1.0//EN
CALSCALE:GREGORIAN
METHOD:PUBLISH
X-ORIGINAL-URL:https://bv-hamburg.net
X-WR-CALDESC:Veranstaltungen für Bauernverband Hamburg e.V.
REFRESH-INTERVAL;VALUE=DURATION:PT1H
X-Robots-Tag:noindex
X-PUBLISHED-TTL:PT1H
BEGIN:VTIMEZONE
TZID:UTC
BEGIN:STANDARD
TZOFFSETFROM:+0000
TZOFFSETTO:+0000
TZNAME:UTC
DTSTART:20260101T000000
END:STANDARD
END:VTIMEZONE
BEGIN:VEVENT
DTSTART;TZID=UTC:20260205T190000
DTEND;TZID=UTC:20260205T210000
DTSTAMP:20260422T101632
CREATED:20251230T134115Z
LAST-MODIFIED:20251230T134115Z
UID:4896-1770318000-1770325200@bv-hamburg.net
SUMMARY:Bezirksversammlung Harburg
DESCRIPTION:
URL:https://bv-hamburg.net/event/bezirksversammlung-harburg/
LOCATION:Kupferkrug\, Niedergeorgswerder Deich 75\, 21109 Hambug
END:VEVENT
END:VCALENDAR