BEGIN:VCALENDAR
VERSION:2.0
PRODID:-//Bauernverband Hamburg e.V. - ECPv6.2.8.1//NONSGML v1.0//EN
CALSCALE:GREGORIAN
METHOD:PUBLISH
X-ORIGINAL-URL:https://bv-hamburg.net
X-WR-CALDESC:Veranstaltungen für Bauernverband Hamburg e.V.
REFRESH-INTERVAL;VALUE=DURATION:PT1H
X-Robots-Tag:noindex
X-PUBLISHED-TTL:PT1H
BEGIN:VTIMEZONE
TZID:Europe/Berlin
BEGIN:DAYLIGHT
TZOFFSETFROM:+0100
TZOFFSETTO:+0200
TZNAME:CEST
DTSTART:20240331T010000
END:DAYLIGHT
BEGIN:STANDARD
TZOFFSETFROM:+0200
TZOFFSETTO:+0100
TZNAME:CET
DTSTART:20241027T010000
END:STANDARD
TZID:UTC
BEGIN:STANDARD
TZOFFSETFROM:+0000
TZOFFSETTO:+0000
TZNAME:UTC
DTSTART:20240101T000000
END:STANDARD
END:VTIMEZONE
BEGIN:VEVENT
DTSTART;TZID=Europe/Berlin:20240201T190000
DTEND;TZID=Europe/Berlin:20240201T210000
DTSTAMP:20260424T160407
CREATED:20231128T100730Z
LAST-MODIFIED:20231128T100730Z
UID:4356-1706814000-1706821200@bv-hamburg.net
SUMMARY:Bezirksversammlung BVHH Harburg
DESCRIPTION:Der Bauernverband Hamburg e.V. lädt seine Mitglieder zur Bezirksversammlung Harburg ein.
URL:https://bv-hamburg.net/event/bezirksversammlung-bvhh-harburg/
LOCATION:Restaurant Sohre\, Parkplatz über\, Kirchdorfer Straße 169\, Otto-Brenner-Straße 30\, 21109 Hamburg\, Kirchdorfer Straße 169\, Hamburg\, 21109
END:VEVENT
BEGIN:VEVENT
DTSTART;TZID=UTC:20240208T190000
DTEND;TZID=UTC:20240208T210000
DTSTAMP:20260424T160407
CREATED:20240201T113520Z
LAST-MODIFIED:20240208T090959Z
UID:4473-1707418800-1707426000@bv-hamburg.net
SUMMARY:Bezirksversammlung Neuenfelde
DESCRIPTION:Liebe Mitglieder des Bauernverbands\, \n  \nes ist uns wichtig\, dass Sie als Mitglied im Verband Ihre Meinung einbringen und aktiv an den Entscheidungen mitwirken. Ihre Anwesenheit und Ihre Stimme sind daher von großer Bedeutung. Wir möchten mit Ihnen über aktuelle Entwicklungen in der Landwirtschaft diskutieren und Lösungsansätze finden und über anstehende Projekte und Veranstaltungen informieren. \nNeuenfelde Tagesordnung
URL:https://bv-hamburg.net/event/bezirksversammlung-neuenfelde/
LOCATION:Bundt’s Gartenrestaurant\, Hasselwerder Straße 85\, Hamburg\, 21129
END:VEVENT
BEGIN:VEVENT
DTSTART;TZID=UTC:20240213T080000
DTEND;TZID=UTC:20240213T130000
DTSTAMP:20260424T160407
CREATED:20240116T103413Z
LAST-MODIFIED:20240116T103413Z
UID:4431-1707811200-1707829200@bv-hamburg.net
SUMMARY:TÜV Hanse
DESCRIPTION:
URL:https://bv-hamburg.net/event/tuev-hanse/
END:VEVENT
BEGIN:VEVENT
DTSTART;TZID=UTC:20240215T190000
DTEND;TZID=UTC:20240215T213000
DTSTAMP:20260424T160407
CREATED:20240201T111337Z
LAST-MODIFIED:20240201T112722Z
UID:4467-1708023600-1708032600@bv-hamburg.net
SUMMARY:Bezirksversammlung Vier- und Marschlande
DESCRIPTION:Vier- und Marschlande Tagesordnung \nLiebe Mitglieder des Bauernverbands\, \n  \nes ist uns wichtig\, dass Sie als Mitglied im Verband Ihre Meinung einbringen und aktiv an den Entscheidungen mitwirken. Ihre Anwesenheit und Ihre Stimme sind daher von großer Bedeutung. Wir möchten mit Ihnen über aktuelle Entwicklungen in der Landwirtschaft diskutieren und Lösungsansätze finden und über anstehende Projekte und Veranstaltungen informieren.
URL:https://bv-hamburg.net/event/bezirksversammlung-vier-und-marschlande/
LOCATION:Tatenberger Fährhaus\, Tatenberger Deich 162\, 21037 Hamburg\, Tatenberger Deich 162\, Hamburg\, 21037\, Deutschland
END:VEVENT
END:VCALENDAR